BEGIN:VCALENDAR
VERSION:2.0
PRODID:-//XELL - ECPv6.15.20//NONSGML v1.0//EN
CALSCALE:GREGORIAN
METHOD:PUBLISH
X-WR-CALNAME:XELL
X-ORIGINAL-URL:https://educaciolliure.org
X-WR-CALDESC:Events for XELL
REFRESH-INTERVAL;VALUE=DURATION:PT1H
X-Robots-Tag:noindex
X-PUBLISHED-TTL:PT1H
BEGIN:VTIMEZONE
TZID:Europe/Madrid
BEGIN:DAYLIGHT
TZOFFSETFROM:+0100
TZOFFSETTO:+0200
TZNAME:CEST
DTSTART:20230326T010000
END:DAYLIGHT
BEGIN:STANDARD
TZOFFSETFROM:+0200
TZOFFSETTO:+0100
TZNAME:CET
DTSTART:20231029T010000
END:STANDARD
BEGIN:DAYLIGHT
TZOFFSETFROM:+0100
TZOFFSETTO:+0200
TZNAME:CEST
DTSTART:20240331T010000
END:DAYLIGHT
BEGIN:STANDARD
TZOFFSETFROM:+0200
TZOFFSETTO:+0100
TZNAME:CET
DTSTART:20241027T010000
END:STANDARD
BEGIN:DAYLIGHT
TZOFFSETFROM:+0100
TZOFFSETTO:+0200
TZNAME:CEST
DTSTART:20250330T010000
END:DAYLIGHT
BEGIN:STANDARD
TZOFFSETFROM:+0200
TZOFFSETTO:+0100
TZNAME:CET
DTSTART:20251026T010000
END:STANDARD
BEGIN:DAYLIGHT
TZOFFSETFROM:+0100
TZOFFSETTO:+0200
TZNAME:CEST
DTSTART:20260329T010000
END:DAYLIGHT
BEGIN:STANDARD
TZOFFSETFROM:+0200
TZOFFSETTO:+0100
TZNAME:CET
DTSTART:20261025T010000
END:STANDARD
BEGIN:DAYLIGHT
TZOFFSETFROM:+0100
TZOFFSETTO:+0200
TZNAME:CEST
DTSTART:20270328T010000
END:DAYLIGHT
BEGIN:STANDARD
TZOFFSETFROM:+0200
TZOFFSETTO:+0100
TZNAME:CET
DTSTART:20271031T010000
END:STANDARD
END:VTIMEZONE
BEGIN:VEVENT
DTSTART;TZID=Europe/Madrid:20260223T160000
DTEND;TZID=Europe/Madrid:20260223T190000
DTSTAMP:20260421T184427
CREATED:20260126T133257Z
LAST-MODIFIED:20260126T133257Z
UID:10004042-1771862400-1771873200@educaciolliure.org
SUMMARY:Portes Obertes LA CLARIANA
DESCRIPTION:Des de La Clariana\, projecte d’Educació Viva i Lliure a Terrassa\, us volem convidar a difondre i acompanyar-nos en les nostres Portes Obertes\, que tindran lloc el dilluns 23 de febrer a les 16 h.\n\nLa Clariana és un projecte impulsat per famílies que acompanya criatures a partir de 2 anys en un entorn de respecte profund pels seus ritmes\, necessitats i processos. Oferim un acompanyament emocional acurat\, basat en el vincle\, la regulació emocional i la seguretat afectiva\, integrant pedagogies actives\, educació emocional i teràpia psicocorporal.\n\nCreem espais d’aprenentatge vius\, oberts i rics inspirats en corrents com Montessori\, Reggio Emilia i Pikler\, on el joc lliure\, l’exploració i l’autonomia són centrals. A La Clariana entenem que l’educació no és només transmissió de continguts\, sinó un procés profund de creixement emocional\, relacional i vital\, i per això també acompanyem les famílies en la presa de consciència del seu paper en el desenvolupament de les criatures.\n\nLes Portes Obertes seran una oportunitat per:\n\n* Conèixer el projecte pedagògic i la seva base teòrica i vivencial\n* Visitar els espais i entendre com es cuiden els ambients\n* Compartir amb les acompanyants\n* Resoldre dubtes\n\nData:Dilluns 23 de febrer\nHora:16 h\nLloc: Espai La Clariana. Masia Can Carbonell. Camí de Can Carbonell s/n. (Terrassa)\n\nSi us ve de gust\, us agrairem molt que feu difusió de la convocatòria entre famílies i persones interessades en una educació respectuosa i viva.\n\n\nSalutacions\,\nLa Clariana\nEspai d’Educació Viva i Lliure a Terrassa\nespailaclariana@gmail.com\n[www.laclariana.cat](http://www.laclariana.cat)
URL:https://educaciolliure.org/agenda/portes-obertes-la-clariana-3/
LOCATION:La Clariana\, Masia Can Carbonell\, Terrassa\, Spain
CATEGORIES:Portes Obertes
ATTACH;FMTTYPE=image/jpeg:https://educaciolliure.org/wp-content/uploads/2026/01/2026-La-Clariana-Portes-obertes.jpg
ORGANIZER;CN="La Clariana":MAILTO:espailaclariana@gmail.com
END:VEVENT
BEGIN:VEVENT
DTSTART;TZID=Europe/Madrid:20250215T103000
DTEND;TZID=Europe/Madrid:20250215T130000
DTSTAMP:20260421T184427
CREATED:20250128T104357Z
LAST-MODIFIED:20250128T104357Z
UID:10003342-1739615400-1739624400@educaciolliure.org
SUMMARY:Portes Obertes La Clariana
DESCRIPTION:Un any més estem encantades d’anunciar les portes obertes de La Clariana. Un projecte d’Educació Liure per nens i nenes de a partir d’1 any caminants en endavant.\n\nLa nostra prioritat és el benestar emocional de les criatures\, per això oferim ràtios baixes\, un procés de vinculació respectant el ritme de cada infant i un entorn de bosc que ens permet gaudir directament de la natura a una masia de Terrassa.\n\nSi en voleu saber més i conèixer els espais us convidem el proper dissabte 15 de febrer a les 10.30h.\n\nPer apuntar-vos només cal emplenar el formulari que teniu a continuació:\n\nhttps://docs.google.com/forms/d/e/1FAIpQLSd_uMg8CGxkV2wGL7JYTzgEcRputI4JYH6zeoqnTCFr82c33Q/viewform?usp=header \n\nUs hi esperem!\n\nLes famílies i acompanyants de La Clariana.
URL:https://educaciolliure.org/agenda/portes-obertes-la-clariana-2/
LOCATION:La Clariana\, Masia Can Carbonell\, Terrassa\, Spain
CATEGORIES:Portes Obertes
ATTACH;FMTTYPE=image/jpeg:https://educaciolliure.org/wp-content/uploads/2025/01/2025-La-clariana-Portes-obertes-febrer.jpg
ORGANIZER;CN="La Clariana":MAILTO:espailaclariana@gmail.com
END:VEVENT
BEGIN:VEVENT
DTSTART;VALUE=DATE:20240902
DTEND;VALUE=DATE:20240907
DTSTAMP:20260421T184427
CREATED:20240802T104050Z
LAST-MODIFIED:20240802T104050Z
UID:10001093-1725235200-1725667199@educaciolliure.org
SUMMARY:Casal de setembre a la Clariana
DESCRIPTION:El dia 2 de setembre comencem! Vindreu? 😃 \nEn aquest casal hi haurà: \n– Natura 🌱\n– Aventures 🕵🏽‍♀️\n– Gimcames 🏃🏽‍♀️ \nHoraris des de les 8:30 fins les 15 hores\, ràtios baixes\, acompanyament emocional i respectuós tal com és el nostre projecte. \nDescompte per pagament avançat fins al 20 d’agost!\nSol•licita més informació per DM 🤗🤗
URL:https://educaciolliure.org/agenda/casal-de-setembre-a-la-clariana/
LOCATION:La Clariana\, Masia Can Carbonell\, Terrassa\, Spain
CATEGORIES:Casal d'Estiu
ATTACH;FMTTYPE=image/png:https://educaciolliure.org/wp-content/uploads/2024/08/2024-La-Clariana-Casal-de-setembre.png
ORGANIZER;CN="La Clariana":MAILTO:espailaclariana@gmail.com
END:VEVENT
BEGIN:VEVENT
DTSTART;TZID=Europe/Madrid:20240224T103000
DTEND;TZID=Europe/Madrid:20240224T130000
DTSTAMP:20260421T184427
CREATED:20240202T130843Z
LAST-MODIFIED:20240202T130843Z
UID:10001027-1708770600-1708779600@educaciolliure.org
SUMMARY:Portes Obertes La Clariana
DESCRIPTION:Benvolgudes famílies\, \n\nEl proper dissabte 24 de febrer la Clariana obre les seves portes per presentar els espais i el projecte.\n\nLa Clariana és un projecte d’educació lliure per infants a partir d’1 any i que estem situats a una masia a Terrassa.\n\nL’horari serà de 10.30 a 13h\, siguent l’entrada a lea 10.30 i a les 11h  l’explicació del projecte.\n\nSi hi voleu assistir podeu escriure a info@laclariana.cat o al whatsapp del +34644666499.\n\nUs hi esperem!\n\nMoltes gràcies!
URL:https://educaciolliure.org/agenda/portes-obertes-la-clariana/
LOCATION:La Clariana\, Masia Can Carbonell\, Terrassa\, Spain
CATEGORIES:Portes Obertes
ATTACH;FMTTYPE=image/jpeg:https://educaciolliure.org/wp-content/uploads/2024/02/2024-La-Clariana-Portes-obertes-febrer.jpg
ORGANIZER;CN="La Clariana":MAILTO:espailaclariana@gmail.com
END:VEVENT
END:VCALENDAR