BEGIN:VCALENDAR
VERSION:2.0
PRODID:-//XELL - ECPv6.15.20//NONSGML v1.0//EN
CALSCALE:GREGORIAN
METHOD:PUBLISH
X-WR-CALNAME:XELL
X-ORIGINAL-URL:https://educaciolliure.org
X-WR-CALDESC:Events for XELL
REFRESH-INTERVAL;VALUE=DURATION:PT1H
X-Robots-Tag:noindex
X-PUBLISHED-TTL:PT1H
BEGIN:VTIMEZONE
TZID:Europe/Madrid
BEGIN:DAYLIGHT
TZOFFSETFROM:+0100
TZOFFSETTO:+0200
TZNAME:CEST
DTSTART:20220327T010000
END:DAYLIGHT
BEGIN:STANDARD
TZOFFSETFROM:+0200
TZOFFSETTO:+0100
TZNAME:CET
DTSTART:20221030T010000
END:STANDARD
BEGIN:DAYLIGHT
TZOFFSETFROM:+0100
TZOFFSETTO:+0200
TZNAME:CEST
DTSTART:20230326T010000
END:DAYLIGHT
BEGIN:STANDARD
TZOFFSETFROM:+0200
TZOFFSETTO:+0100
TZNAME:CET
DTSTART:20231029T010000
END:STANDARD
BEGIN:DAYLIGHT
TZOFFSETFROM:+0100
TZOFFSETTO:+0200
TZNAME:CEST
DTSTART:20240331T010000
END:DAYLIGHT
BEGIN:STANDARD
TZOFFSETFROM:+0200
TZOFFSETTO:+0100
TZNAME:CET
DTSTART:20241027T010000
END:STANDARD
END:VTIMEZONE
BEGIN:VEVENT
DTSTART;TZID=Europe/Madrid:20230501T093000
DTEND;TZID=Europe/Madrid:20230501T113000
DTSTAMP:20260421T201211
CREATED:20230428T081814Z
LAST-MODIFIED:20230428T082133Z
UID:10000058-1682933400-1682940600@educaciolliure.org
SUMMARY:Els paranys de l'educació lliure - Créixer en tribu
DESCRIPTION:Si et fa mal l’esquena\, no agafis el teu infant en braços… De tant voler respectar els nostres fills i filles\, ens respectem a nosaltres? Quins valors i actituds els transmetem? \nEn parlem amb en Marc Alcega\, membre del Grup de treball de la XELL\, amb la gent participant al festival Créixer en tribu\, enguany a Vinyols!
URL:https://educaciolliure.org/agenda/els-paranys-de-leducacio-lliure-creixer-en-tribu/
LOCATION:Ecocamp Vinyols\, Camí de Barenys 13\, Vinyols i els Arcs\, Baix Camp\, 43391\, Spain
CATEGORIES:Propia de la XELL
ATTACH;FMTTYPE=image/png:https://educaciolliure.org/wp-content/uploads/acudit-forges.png
ORGANIZER;CN="Cr%C3%A9ixer en Tribu":MAILTO:creixerentribu@gmail.com
END:VEVENT
BEGIN:VEVENT
DTSTART;VALUE=DATE:20230428
DTEND;VALUE=DATE:20230502
DTSTAMP:20260421T201211
CREATED:20230329T064636Z
LAST-MODIFIED:20230329T064928Z
UID:10000053-1682640000-1682985599@educaciolliure.org
SUMMARY:Xell al Festival de Criança Respectuosa Créixer en Tribu 2023
DESCRIPTION:El cap de setmana del primer de maig \, del 28 d’abril a l’u de maig\, s’està organitzant un festival/trobada de Criança respectuosa al Càmping Vinyols\, per part de la gent de Créixer en Tribu. \nTeràpies\, ioga en família\, que els infants tinguin un espai en tot moment\, que hi hagi activitats de reflexió\, xerrades\, assessorament\, etc… però a ritme tranquil\, pensant en les criatures que hi haurà. \nLa XELL col·labora en la organització i hi serà present. Plantarem paradeta\, farem alguna xerrada i hi organitzem una trobada oberta per a gestors i acompanyants d’espais\, projectes i mares de dia afins a l’educació lliure/viva del territori. Més endavant concretarem dia i hora. \nLa idea és fer xarxa i parlar de les necessitats que tenim els projectes tarragonins\, com veiem la situació actual\, quines eines ens anirien bé\, quines ens estan funcionant\, etc… Els temes que ja hem comentat amb gent de l’entorn són: \n\nCrear xarxa de suport entre projectes\nSostenibilitat econòmica\nFormacions per a professionals\nActivitats conjuntes
URL:https://educaciolliure.org/agenda/xell-al-festival-de-crianca-respectuosa-creixer-en-tribu-2023/
LOCATION:Ecocamp Vinyols\, Camí de Barenys 13\, Vinyols i els Arcs\, Baix Camp\, 43391\, Spain
CATEGORIES:Propia de la XELL
ATTACH;FMTTYPE=image/jpeg:https://educaciolliure.org/wp-content/uploads/2023/03/IMG-20220430-WA0002.jpg
ORGANIZER;CN="Cr%C3%A9ixer en Tribu":MAILTO:creixerentribu@gmail.com
END:VEVENT
BEGIN:VEVENT
DTSTART;VALUE=DATE:20230428
DTEND;VALUE=DATE:20230502
DTSTAMP:20260421T201211
CREATED:20230328T113216Z
LAST-MODIFIED:20230328T113216Z
UID:10000051-1682640000-1682985599@educaciolliure.org
SUMMARY:Créixer en tribu - Festival de criança respectuosa 2023
DESCRIPTION:La XELL participa a les jornades dins el Festival Créixer en tribu – Festival de criança respectuosa 2023\, un espai sobre criança\, família\, lúdic i de compartir!\n!
URL:https://educaciolliure.org/agenda/creixer-en-tribu-festival-de-crianca-respectuosa-2023/
LOCATION:Ecocamp Vinyols\, Camí de Barenys 13\, Vinyols i els Arcs\, Baix Camp\, 43391\, Spain
ORGANIZER;CN="Cr%C3%A9ixer en Tribu":MAILTO:creixerentribu@gmail.com
END:VEVENT
END:VCALENDAR