BEGIN:VCALENDAR
VERSION:2.0
PRODID:-//XELL - ECPv6.15.20//NONSGML v1.0//EN
CALSCALE:GREGORIAN
METHOD:PUBLISH
X-WR-CALNAME:XELL
X-ORIGINAL-URL:https://educaciolliure.org
X-WR-CALDESC:Events for XELL
REFRESH-INTERVAL;VALUE=DURATION:PT1H
X-Robots-Tag:noindex
X-PUBLISHED-TTL:PT1H
BEGIN:VTIMEZONE
TZID:Europe/Madrid
BEGIN:DAYLIGHT
TZOFFSETFROM:+0100
TZOFFSETTO:+0200
TZNAME:CEST
DTSTART:20250330T010000
END:DAYLIGHT
BEGIN:STANDARD
TZOFFSETFROM:+0200
TZOFFSETTO:+0100
TZNAME:CET
DTSTART:20251026T010000
END:STANDARD
BEGIN:DAYLIGHT
TZOFFSETFROM:+0100
TZOFFSETTO:+0200
TZNAME:CEST
DTSTART:20260329T010000
END:DAYLIGHT
BEGIN:STANDARD
TZOFFSETFROM:+0200
TZOFFSETTO:+0100
TZNAME:CET
DTSTART:20261025T010000
END:STANDARD
BEGIN:DAYLIGHT
TZOFFSETFROM:+0100
TZOFFSETTO:+0200
TZNAME:CEST
DTSTART:20270328T010000
END:DAYLIGHT
BEGIN:STANDARD
TZOFFSETFROM:+0200
TZOFFSETTO:+0100
TZNAME:CET
DTSTART:20271031T010000
END:STANDARD
END:VTIMEZONE
BEGIN:VEVENT
DTSTART;TZID=Europe/Madrid:20260425T110000
DTEND;TZID=Europe/Madrid:20260425T190000
DTSTAMP:20260422T101406
CREATED:20260415T054604Z
LAST-MODIFIED:20260415T054604Z
UID:10004508-1777114800-1777143600@educaciolliure.org
SUMMARY:Festa de Primavera
DESCRIPTION:Celebrem la 🌼primavera🌼\, \namb música en viu\, espectacles\, activitats per als infants \ni menjar deliciós! 😋\n\nEt convidem a celebrar amb nosaltres l’arribada de la primavera.\n\n\n\nUna jornada per viure el Petit Edèn\, gaudir de la natura i compartir en comunitat. \nInformació pràctica \n📅 Quan: Dissabte 25 d’abril\, d’11:00 a 19:00 \n📍 On: El Petit Edèn · Sant Pere de Ribes \n🐨 Per a qui: Famílies\, infants i persones properes al projecte \n✨ Què hi trobaràs: \n\n\n🍃 Activitats per infants \n\n\n🎭 Espectacles \n\n\n🎶 Música en viu \n\n\n🍕 Menjar i begudes \n\n\nℹ️ Reserva \n\n\n\n\n\nCal reservar? Per ajudar-nos amb l’organització\, et recomanem reservar la teva plaça. \n\n\nTiquets Menjar: 🎟️ Possibilitat de venta anticipada de tiquets de menjar i beguda (reserva aquí) \n\n\n\n\n\n\n\nRESERVAR PLAÇA\n\n \n\n \n\n\n\n\n\n\n\n\n\n\n\n\n\n\n\n\n\n622184081\n\n\n\ninfo@elpetiteden.com\n\n\n\nwww.elpetiteden.com\n\n\n\nSant Pere de Ribes\, Barcelona\, El Garraf
URL:https://educaciolliure.org/agenda/festa-de-primavera/
LOCATION:El Petit Edèn\, Sant Pere de Ribes\, Spain
CATEGORIES:Festa
ATTACH;FMTTYPE=image/avif:https://educaciolliure.org/wp-content/uploads/2026/04/2026-El-petit-Eden-Festa-primavera.avif
ORGANIZER;CN="El Petit Ed%C3%A8n":MAILTO:elpetiteden@gmail.com
END:VEVENT
END:VCALENDAR