BEGIN:VCALENDAR
VERSION:2.0
PRODID:-//XELL - ECPv6.15.20//NONSGML v1.0//EN
CALSCALE:GREGORIAN
METHOD:PUBLISH
X-ORIGINAL-URL:https://educaciolliure.org
X-WR-CALDESC:Events for XELL
REFRESH-INTERVAL;VALUE=DURATION:PT1H
X-Robots-Tag:noindex
X-PUBLISHED-TTL:PT1H
BEGIN:VTIMEZONE
TZID:Europe/Madrid
BEGIN:DAYLIGHT
TZOFFSETFROM:+0100
TZOFFSETTO:+0200
TZNAME:CEST
DTSTART:20220327T010000
END:DAYLIGHT
BEGIN:STANDARD
TZOFFSETFROM:+0200
TZOFFSETTO:+0100
TZNAME:CET
DTSTART:20221030T010000
END:STANDARD
BEGIN:DAYLIGHT
TZOFFSETFROM:+0100
TZOFFSETTO:+0200
TZNAME:CEST
DTSTART:20230326T010000
END:DAYLIGHT
BEGIN:STANDARD
TZOFFSETFROM:+0200
TZOFFSETTO:+0100
TZNAME:CET
DTSTART:20231029T010000
END:STANDARD
BEGIN:DAYLIGHT
TZOFFSETFROM:+0100
TZOFFSETTO:+0200
TZNAME:CEST
DTSTART:20240331T010000
END:DAYLIGHT
BEGIN:STANDARD
TZOFFSETFROM:+0200
TZOFFSETTO:+0100
TZNAME:CET
DTSTART:20241027T010000
END:STANDARD
BEGIN:DAYLIGHT
TZOFFSETFROM:+0100
TZOFFSETTO:+0200
TZNAME:CEST
DTSTART:20250330T010000
END:DAYLIGHT
BEGIN:STANDARD
TZOFFSETFROM:+0200
TZOFFSETTO:+0100
TZNAME:CET
DTSTART:20251026T010000
END:STANDARD
END:VTIMEZONE
BEGIN:VEVENT
DTSTART;TZID=Europe/Madrid:20240226T160000
DTEND;TZID=Europe/Madrid:20240226T170000
DTSTAMP:20260421T115142
CREATED:20240124T091314Z
LAST-MODIFIED:20240202T131736Z
UID:10001010-1708963200-1708966800@educaciolliure.org
SUMMARY:Psicomotricitat en família XANTALA
DESCRIPTION:🌈Un espai d’exploració i joc espontani en un entorn adequat i segur. \n🌱Un temps relaxat de dedicació\, mirada i complicitat\, a on els infants poden experimentar el plaer dels seus moviments i accions\, acompanyats de la seva família i compartint amb altres. \n👤Amb Roberta Castellan\, Formació en educació lliure (La Caseta\, Barcelona)\, acompanyament emocional (SENDA\, Barcelona) i psicomotricitat educativa-preventiva (AEC\, Barcelona).\nActualment cursant una formació de doula (Guardianas del nacimiento\, Alicante).\nAcompanyant en espais d’educació lliure i grups de psicomotricitat. \n📅 Primera classe el 5 de Febrer\n⏳ Dilluns de 16h a 17h \n📲Info e inscripcions:\n📨 info@xantala.es\n☎️ 664 580 347
URL:https://educaciolliure.org/agenda/psicomotricitat-en-familia-xantala/2024-02-26/
LOCATION:Xantala\, Pere IV 190\, Barcelona\, Spain
CATEGORIES:Activitat Setmanal
ATTACH;FMTTYPE=image/jpeg:https://educaciolliure.org/wp-content/uploads/2024/01/2024-Xantala-Psicomotricitat.jpg
ORGANIZER;CN="Xantala":MAILTO:info@xantala.es
END:VEVENT
BEGIN:VEVENT
DTSTART;TZID=Europe/Madrid:20240223T173000
DTEND;TZID=Europe/Madrid:20240223T193000
DTSTAMP:20260421T115142
CREATED:20240209T134705Z
LAST-MODIFIED:20240209T134838Z
UID:10001036-1708709400-1708716600@educaciolliure.org
SUMMARY:CERCLE DE NOIS 
DESCRIPTION: \n☀️CERCLE DE NOIS ☀️ \n\n\n\n\n\n\n\n\n\n\n\n\n\nÉs un acompanyament a la sexualitat de nens de 8 a 12 anys\, amb @xavi_ybeas_zamora\n\nLa principal finalitat d’aquest espai és la cura\, tenir cura en totes les direccions i formes verbals\n\nPosarem mirada en:\n☀️La sexualitat\n☀️L’ afectivitat\n☀️El gènere\n☀️La diversitat\n☀️Les emocions\n☀️Les pròpies necessitats\n☀️Les relacions\n\n\nEls cercles són un lloc molt especial\, on els seus participants poden ser ells mateixos i brillar amb llum pròpia. I on les famílies formen part del projecte d’una manera activa .\n\n📅Ens reunim un divendres al mes a Xantala\, Poblenou.\n\n⏳Pròxim cercle el 23 de Febrer de 17:30h a 19:30h\n\n📲Si vols més informació pots posar-te en contacte amb Sira de @ninos.desolyluna ✨✨
URL:https://educaciolliure.org/agenda/cercle-de-nois/
LOCATION:Xantala\, Pere IV 190\, Barcelona\, Spain
CATEGORIES:Activitat Mensual
ATTACH;FMTTYPE=image/jpeg:https://educaciolliure.org/wp-content/uploads/2024/02/2024-Xantala-Cercle-de-nois.jpg
ORGANIZER;CN="Xantala":MAILTO:info@xantala.es
END:VEVENT
BEGIN:VEVENT
DTSTART;TZID=Europe/Madrid:20240221T161500
DTEND;TZID=Europe/Madrid:20240221T170000
DTSTAMP:20260421T115142
CREATED:20240209T135335Z
LAST-MODIFIED:20240209T135537Z
UID:10001037-1708532100-1708534800@educaciolliure.org
SUMMARY:Música en família
DESCRIPTION:✨ MÚSICA EN FAMÍLIA\n🐾Per a bebés de 6 a 36 Mesos\nImpartit per Elisabete Gomez\, Música i musicoterapeuta\n\n\n📅 5 sessions: febrer 21 i 28\, març 6\,13\,20⏳ Dimecres de 16:15h a 17h \n\n📲Info e inscripcions:📨 elisabetegomesviolin@gmail.com \n☎️623 180 301
URL:https://educaciolliure.org/agenda/musica-en-familia/2024-02-21/
LOCATION:Xantala\, Pere IV 190\, Barcelona\, Spain
CATEGORIES:Activitat Setmanal
ATTACH;FMTTYPE=image/png:https://educaciolliure.org/wp-content/uploads/2024/02/2024-Xantala-Musica-en-familia.png
ORGANIZER;CN="Xantala":MAILTO:info@xantala.es
END:VEVENT
BEGIN:VEVENT
DTSTART;TZID=Europe/Madrid:20240219T183000
DTEND;TZID=Europe/Madrid:20240219T200000
DTSTAMP:20260421T115142
CREATED:20240209T132228Z
LAST-MODIFIED:20240209T132228Z
UID:10001031-1708367400-1708372800@educaciolliure.org
SUMMARY:MATERNITATS COMPARTIDES ….I ARROPADES PEL GRUP
DESCRIPTION:MATERNITATS COMPARTIDES ….I ARROPADES PEL GRUP\n\n💜 Una trobada mensual de dones on compartir culpes\, reptes i ambivalències de la maternitat\, per gaudir-la\, sostenir-la i créixer amb ella. \n🗓️ Data:  19/2\, 18/3\, 15/4\, 6/5\, 3/6\nDe 18.30 a 20 h\nEn Xantala\, Pere IV\, 190 \n✨Trobades gratuïtes✨\n➡️ Imprescindible inscripció prèvia al 625818340 o al mail martabottacoach@gmail.com Acompanyat per @martabotta_coach\, mare i coach gestàltic
URL:https://educaciolliure.org/agenda/maternitats-compartides-i-arropades-pel-grup/2024-02-19/
LOCATION:Xantala\, Pere IV 190\, Barcelona\, Spain
CATEGORIES:Activitat Mensual
ATTACH;FMTTYPE=image/jpeg:https://educaciolliure.org/wp-content/uploads/2024/02/2024-Xantala-Maternidades-Compartidas.jpg
ORGANIZER;CN="Xantala":MAILTO:info@xantala.es
END:VEVENT
BEGIN:VEVENT
DTSTART;TZID=Europe/Madrid:20240219T160000
DTEND;TZID=Europe/Madrid:20240219T170000
DTSTAMP:20260421T115142
CREATED:20240124T091314Z
LAST-MODIFIED:20240202T131736Z
UID:10001009-1708358400-1708362000@educaciolliure.org
SUMMARY:Psicomotricitat en família XANTALA
DESCRIPTION:🌈Un espai d’exploració i joc espontani en un entorn adequat i segur. \n🌱Un temps relaxat de dedicació\, mirada i complicitat\, a on els infants poden experimentar el plaer dels seus moviments i accions\, acompanyats de la seva família i compartint amb altres. \n👤Amb Roberta Castellan\, Formació en educació lliure (La Caseta\, Barcelona)\, acompanyament emocional (SENDA\, Barcelona) i psicomotricitat educativa-preventiva (AEC\, Barcelona).\nActualment cursant una formació de doula (Guardianas del nacimiento\, Alicante).\nAcompanyant en espais d’educació lliure i grups de psicomotricitat. \n📅 Primera classe el 5 de Febrer\n⏳ Dilluns de 16h a 17h \n📲Info e inscripcions:\n📨 info@xantala.es\n☎️ 664 580 347
URL:https://educaciolliure.org/agenda/psicomotricitat-en-familia-xantala/2024-02-19/
LOCATION:Xantala\, Pere IV 190\, Barcelona\, Spain
CATEGORIES:Activitat Setmanal
ATTACH;FMTTYPE=image/jpeg:https://educaciolliure.org/wp-content/uploads/2024/01/2024-Xantala-Psicomotricitat.jpg
ORGANIZER;CN="Xantala":MAILTO:info@xantala.es
END:VEVENT
BEGIN:VEVENT
DTSTART;TZID=Europe/Madrid:20240217T110000
DTEND;TZID=Europe/Madrid:20240217T130000
DTSTAMP:20260421T115142
CREATED:20240209T135812Z
LAST-MODIFIED:20240209T135851Z
UID:10001042-1708167600-1708174800@educaciolliure.org
SUMMARY:Grup de Criança a Xantala
DESCRIPTION:🌺 Grup de Criança a Xantala🌺\nEntrada lliure!\n\n✨Un lloc per compartir dubtes\, inquietuds\, experiències… per compartir les nostres vivències i escoltara les altres mares i pares\, i sobretot\, seguir aprenent a escoltar els nostres fills i filles\, els mestres més savis de tots. \nUs hi esperem❣️ \n📅Dissabte 17 de febrer\n⏳De 11h a 13h \n📲 Mes info a:\n📨Info@xantala.es \n☎️664 580 347
URL:https://educaciolliure.org/agenda/grup-de-crianca-a-xantala/
LOCATION:Xantala\, Pere IV 190\, Barcelona\, Spain
CATEGORIES:Activitat Puntual
ATTACH;FMTTYPE=image/jpeg:https://educaciolliure.org/wp-content/uploads/2024/02/2024-Xantala-Grup-de-crianca.jpg
ORGANIZER;CN="Xantala":MAILTO:info@xantala.es
END:VEVENT
BEGIN:VEVENT
DTSTART;TZID=Europe/Madrid:20240212T160000
DTEND;TZID=Europe/Madrid:20240212T170000
DTSTAMP:20260421T115142
CREATED:20240124T091314Z
LAST-MODIFIED:20240202T131736Z
UID:10001008-1707753600-1707757200@educaciolliure.org
SUMMARY:Psicomotricitat en família XANTALA
DESCRIPTION:🌈Un espai d’exploració i joc espontani en un entorn adequat i segur. \n🌱Un temps relaxat de dedicació\, mirada i complicitat\, a on els infants poden experimentar el plaer dels seus moviments i accions\, acompanyats de la seva família i compartint amb altres. \n👤Amb Roberta Castellan\, Formació en educació lliure (La Caseta\, Barcelona)\, acompanyament emocional (SENDA\, Barcelona) i psicomotricitat educativa-preventiva (AEC\, Barcelona).\nActualment cursant una formació de doula (Guardianas del nacimiento\, Alicante).\nAcompanyant en espais d’educació lliure i grups de psicomotricitat. \n📅 Primera classe el 5 de Febrer\n⏳ Dilluns de 16h a 17h \n📲Info e inscripcions:\n📨 info@xantala.es\n☎️ 664 580 347
URL:https://educaciolliure.org/agenda/psicomotricitat-en-familia-xantala/2024-02-12/
LOCATION:Xantala\, Pere IV 190\, Barcelona\, Spain
CATEGORIES:Activitat Setmanal
ATTACH;FMTTYPE=image/jpeg:https://educaciolliure.org/wp-content/uploads/2024/01/2024-Xantala-Psicomotricitat.jpg
ORGANIZER;CN="Xantala":MAILTO:info@xantala.es
END:VEVENT
BEGIN:VEVENT
DTSTART;TZID=Europe/Madrid:20240205T160000
DTEND;TZID=Europe/Madrid:20240205T170000
DTSTAMP:20260421T115142
CREATED:20240124T091314Z
LAST-MODIFIED:20240202T131736Z
UID:10001007-1707148800-1707152400@educaciolliure.org
SUMMARY:Psicomotricitat en família XANTALA
DESCRIPTION:🌈Un espai d’exploració i joc espontani en un entorn adequat i segur. \n🌱Un temps relaxat de dedicació\, mirada i complicitat\, a on els infants poden experimentar el plaer dels seus moviments i accions\, acompanyats de la seva família i compartint amb altres. \n👤Amb Roberta Castellan\, Formació en educació lliure (La Caseta\, Barcelona)\, acompanyament emocional (SENDA\, Barcelona) i psicomotricitat educativa-preventiva (AEC\, Barcelona).\nActualment cursant una formació de doula (Guardianas del nacimiento\, Alicante).\nAcompanyant en espais d’educació lliure i grups de psicomotricitat. \n📅 Primera classe el 5 de Febrer\n⏳ Dilluns de 16h a 17h \n📲Info e inscripcions:\n📨 info@xantala.es\n☎️ 664 580 347
URL:https://educaciolliure.org/agenda/psicomotricitat-en-familia-xantala/2024-02-05/
LOCATION:Xantala\, Pere IV 190\, Barcelona\, Spain
CATEGORIES:Activitat Setmanal
ATTACH;FMTTYPE=image/jpeg:https://educaciolliure.org/wp-content/uploads/2024/01/2024-Xantala-Psicomotricitat.jpg
ORGANIZER;CN="Xantala":MAILTO:info@xantala.es
END:VEVENT
BEGIN:VEVENT
DTSTART;TZID=Europe/Madrid:20231130T170000
DTEND;TZID=Europe/Madrid:20231130T190000
DTSTAMP:20260421T115142
CREATED:20231115T162812Z
LAST-MODIFIED:20231115T162812Z
UID:10000095-1701363600-1701370800@educaciolliure.org
SUMMARY:Xerrada sexualitat infantil
DESCRIPTION:Volem anunciar-te  que el dijous 30 de novembre de 17h a 19h\, el nostre company Dani González\,  ens oferirà una Xerrada sobre  l’acompanyament a la sexualitat infantil. T’apuntes?\n \n\n “Acompanyament a la sexualitat infantil “\n\n🧚‍♂️ “A quina edat comença la sexualitat? Els infants en tenen\, de sexualitat? Com em sento quan em pregunta sobre aquest tema? Com gestiono que vulgui despullar-se en públic\, o quan vol explorar els seus genitals?”\n\n\n🎋 Un espai on reflexionar conjuntament sobre com acompanyar amb respecte el desenvolupament de la sexualitat dels infants. Compartint coneixement\, experiències i recursos\, parlarem sobre què és l’educació sexual\, quins són els seus objectius i quins beneficis aporta a infants i adult@s. Posarem la mirada en abraçar la sexualitat dels infants com a part del seu ésser.\n\n\n🌬 Dirigit a totes les persones que acompanyen infants.\n\n\n \n📲Inscripcions i informació a info@xantala.es
URL:https://educaciolliure.org/agenda/xerrada-sexualitat-infantil/
LOCATION:Xantala\, Pere IV 190\, Barcelona\, Spain
CATEGORIES:Activitat Puntual
ATTACH;FMTTYPE=image/jpeg:https://educaciolliure.org/wp-content/uploads/2023/11/2023-Xantala-Xerrada-sexualitat-infants.jpg
ORGANIZER;CN="Xantala":MAILTO:info@xantala.es
END:VEVENT
BEGIN:VEVENT
DTSTART;TZID=Europe/Madrid:20231125T090000
DTEND;TZID=Europe/Madrid:20231125T160000
DTSTAMP:20260421T115142
CREATED:20231031T105440Z
LAST-MODIFIED:20231031T110059Z
UID:10000093-1700902800-1700928000@educaciolliure.org
SUMMARY:Jornada Matérnate - Xantala
DESCRIPTION:Aquesta proposta neix del voler compartir\, gaudir\, posar paraules i sentir-nos a prop quan estem maternant i paternant.\n \nÉs un dia molt especial on hi haurà diferents propostes per a la dona\, per a la família i per a la parella.\n\n🗓️ DISSABTE 25 de NOVEMBRE de 9:00h a 16:00h \n📍 A Xantala: C/ Pere IV\, 190 \n\n \n\nXantala ens acollirà per obrir-nos a l’espai del joc\, de l’escolta i del compartir.\n  \nHi haurà ioga\, cercle de dones\, rituals\, xerrades\, tallers i jocs perquè el dia el visquem en xarxa i sostenint-nos.\n \n* Servei de canguratge inclòs i lunch.\n\n👇T’agradaria venir i saber-ne més?👇 \n📝 Inscripcions i informació: Tel. 609188293   maternate2023@gmail.com \n  \nQue circuli i arribi a moltes famílies!\n  \nLes places són limitades però el cor infinit!\n \n🏷️Entrades des de 15€.
URL:https://educaciolliure.org/agenda/jornada-maternate-xantala/
LOCATION:Xantala\, Pere IV 190\, Barcelona\, Spain
CATEGORIES:Activitat Puntual
ATTACH;FMTTYPE=image/jpeg:https://educaciolliure.org/wp-content/uploads/2023/10/2023-Xantala-Maternate-2.jpg
ORGANIZER;CN="Xantala":MAILTO:info@xantala.es
END:VEVENT
BEGIN:VEVENT
DTSTART;TZID=Europe/Madrid:20231117T173000
DTEND;TZID=Europe/Madrid:20231117T193000
DTSTAMP:20260421T115142
CREATED:20231031T105316Z
LAST-MODIFIED:20231031T105316Z
UID:10000092-1700242200-1700249400@educaciolliure.org
SUMMARY:Cercle de nois - Xantala
DESCRIPTION:És un acompanyament a la sexualitat de nens de 8 a 12 anys\, amb @xavi_ybeas_zamora\n\nLa principal finalitat d’aquest espai és la cura\, tenir cura en totes les direccions i formes verbals\n\nPosarem mirada en:\n☀️La sexualitat\n☀️L’ afectivitat\n☀️El gènere\n☀️La diversitat\n☀️Les emocions\n☀️Les pròpies necessitats\n☀️Les relacions\n\n\nEls cercles són un lloc molt especial\, on els seus participants poden ser ells mateixos i brillar amb llum pròpia. I on les famílies formen part del projecte d’una manera activa .\n\n📅Ens reunim un divendres al mes a Xantala\, Poblenou.\n\n⏳Pròxim cercle el 17 de Noviembre de 17:30h a 19:30h\n\n📲Si vols més informació pots posar-te en contacte amb Sira de @ninos.desolyluna ✨✨
URL:https://educaciolliure.org/agenda/cercle-de-nois-xantala-2/
LOCATION:Xantala\, Pere IV 190\, Barcelona\, Spain
CATEGORIES:Activitat Puntual
ATTACH;FMTTYPE=image/jpeg:https://educaciolliure.org/wp-content/uploads/2023/10/2023-Xantala-circulo-ninos.jpg
ORGANIZER;CN="Xantala":MAILTO:info@xantala.es
END:VEVENT
BEGIN:VEVENT
DTSTART;TZID=Europe/Madrid:20231114T180000
DTEND;TZID=Europe/Madrid:20231114T200000
DTSTAMP:20260421T115142
CREATED:20231031T105151Z
LAST-MODIFIED:20231031T105151Z
UID:10000091-1699984800-1699992000@educaciolliure.org
SUMMARY:Portes Obertes Xantala
DESCRIPTION: Ens queden 2 places lliures per al nostre espai matinal.\n \n\n\n\n\n🌱L’Associació Xantala\, Som una associació sense ànim de lucre\, constituïda per un grup d’acompanyants i de famílies i té com a finalitat l’acompanyament respectuós de la criança en tot el procés des de la concepció fins a l’accés de l’infant a l’Educació Primària\, seguint les bases de l’educació lliure.\n \n✨Oferim un espai matinal per a infants entre 2 i 6 anys\, amb una ràtio petita. Una de les nostres principals propostes és la d’acompanyar el lliure desenvolupament dels processos evolutius dels infants\, així com recollir les inquietuds i necessitats pròpies de les famílies.
URL:https://educaciolliure.org/agenda/portes-obertes-xantala-3/
LOCATION:Xantala\, Pere IV 190\, Barcelona\, Spain
CATEGORIES:Portes Obertes
ATTACH;FMTTYPE=image/jpeg:https://educaciolliure.org/wp-content/uploads/2023/10/2023-Xantala-Puertas-abiertas-novembre.jpg
ORGANIZER;CN="Xantala":MAILTO:info@xantala.es
END:VEVENT
BEGIN:VEVENT
DTSTART;TZID=Europe/Madrid:20231104T103000
DTEND;TZID=Europe/Madrid:20231104T133000
DTSTAMP:20260421T115142
CREATED:20231031T105034Z
LAST-MODIFIED:20231031T105034Z
UID:10000090-1699093800-1699104600@educaciolliure.org
SUMMARY:APAPACHO  ¿Necesitas un momento para ti?
DESCRIPTION:Som Marta i Olga i et proposem un espai mensual\, compartit amb altres dones\, en el qual podràs conèixer-te millor des de la consciència i el gaudi per augmentar la teva autoestima\, sentir-te més plena i portar la teva autocura al teu dia a dia amb dinàmiques de Coaching\, Gestalt i Riu Obert.\n\n 🗓️  4 de noviembre de 10:30h a 13:30h\n \n 💫Aportació 30€/sessió – 75€ Trimestre (Reserva de plaça 10€) \n \n📍 A Xantala: C/ Pere IV\, 190\n \n 📝 Inscripcions: @martabotta_coach @olgaguerrero.dansalma 625482377 Martabottacoach@gmail.com
URL:https://educaciolliure.org/agenda/apapacho-necesitas-un-momento-para-ti/
LOCATION:Xantala\, Pere IV 190\, Barcelona\, Spain
CATEGORIES:Activitat Puntual
ATTACH;FMTTYPE=image/jpeg:https://educaciolliure.org/wp-content/uploads/2023/10/2023-Xantala-apapacho-nov.jpg
ORGANIZER;CN="Xantala":MAILTO:info@xantala.es
END:VEVENT
BEGIN:VEVENT
DTSTART;TZID=Europe/Madrid:20231027T173000
DTEND;TZID=Europe/Madrid:20231027T193000
DTSTAMP:20260421T115142
CREATED:20231024T080306Z
LAST-MODIFIED:20231024T080306Z
UID:10000085-1698427800-1698435000@educaciolliure.org
SUMMARY:Cercle de nois - Xantala
DESCRIPTION:La principal finalitat d’aquest espai és la cura\, tenir cura en totes les direccions i formes verbals\n\nPosarem mirada en:\n☀️La sexualitat\n☀️L’ afectivitat\n☀️El gènere\n☀️La diversitat\n☀️Les emocions\n☀️Les pròpies necessitats\n☀️Les relacions\n\n\nEls cercles són un lloc molt especial\, on els seus participants poden ser ells mateixos i brillar amb llum pròpia. I on les famílies formen part del projecte d’una manera activa .\n\n📅Ens reunim un divendres al mes a Xantala\, Poblenou.\n\n⏳Pròxim cercle el 27 d’Octubre de 17:30h a 19:30h\n\n📲Si vols més informació pots posar-te en contacte amb Sira de @ninos.desolyluna ✨✨
URL:https://educaciolliure.org/agenda/cercle-de-nois-xantala/
LOCATION:Xantala\, Pere IV 190\, Barcelona\, Spain
CATEGORIES:Activitat Puntual
ATTACH;FMTTYPE=image/jpeg:https://educaciolliure.org/wp-content/uploads/2023/10/2023-Xantala-Cercle-nois.jpg
ORGANIZER;CN="Xantala":MAILTO:info@xantala.es
END:VEVENT
BEGIN:VEVENT
DTSTART;VALUE=DATE:20230626
DTEND;VALUE=DATE:20230729
DTSTAMP:20260421T115142
CREATED:20230511T095111Z
LAST-MODIFIED:20230511T095738Z
UID:10000065-1687737600-1690588799@educaciolliure.org
SUMMARY:Casal d'Estiu Xantala
DESCRIPTION:Estimades famílies\, l’estiu està molt a prop i també el Casal d’estiu de Xantala\, amb molta alegria us enviem aquest correu per informar-vos del funcionament bàsic. \nEl casal és un espai lúdic per a infants de 2/3 a 12 anys\, adaptat al moment maduratiu de l’infant\, basat en els ritmes d’autoregulació\, de l’educació lliure\, el joc i l’expressió creativa. \nINFORMACIÓ PRÀCTICA \n\nDates: \n\no   26 al 30 de juny. \no   3 al 7 de Juliol. \no   10 al 14 de juliol. \no   17 al 21 de juliol. \no   24 al 28 de juliol. \n  \n\nHorari de 9h a 15h de dilluns a divendres.\n El menjar serà de carmanyola de dilluns a divendres.\n Acompanyament i ràtio: Depenent de les franges majoritàries d’edat la ràtio pot oscil·lar entre 1 educador per 7 infants o 1 educador per 8 infants.\nActivitats: S’organitzaran les activitats del dia a dia ( jocs motrius\, creativitat i expressió artística) en funció dels grups d’edats i interessos.\n\n\nPreu:\n\no 115€/setmana(23€/dia) ) 1 infant \no 210€/setmana (42€/dia) 2 germa/na \n\nReserva i inscripcions: \ninfo@xantala.es\nTel.664 580 347\nPreguntes freqüents:\n\n      Quin esmorzaran? \nCada criatura porta dues peces de fruita i es comparteixen. \n      Es poden fer dies solts? \nSi \n      Es faran excursions? \nSi es fan sortides i es concreten setmanalment amb les famílies. \nEs realitzaran sortides a l’entorn\, platja\, parcs..\, amb el grup de 6 a 12 anys. \nAmb el grup de 2/3 a 6 anys es realitzen de forma puntual\, a concretar segons el grup. \n     Es pot allargar l’horari? \nNo\, l’horari és de 9h a 15h \nSi voleu més informació\, no dubteu a posar-vos en contacte amb nosaltres per poder resoldre-les.
URL:https://educaciolliure.org/agenda/casal-destiu-xantala/
LOCATION:Xantala\, Pere IV 190\, Barcelona\, Spain
CATEGORIES:Casal d'Estiu
ATTACH;FMTTYPE=image/png:https://educaciolliure.org/wp-content/uploads/Casal-Estiu-Xantala-2023.png
ORGANIZER;CN="Xantala":MAILTO:info@xantala.es
END:VEVENT
BEGIN:VEVENT
DTSTART;TZID=Europe/Madrid:20230613T180000
DTEND;TZID=Europe/Madrid:20230613T200000
DTSTAMP:20260421T115142
CREATED:20230601T073641Z
LAST-MODIFIED:20230601T073641Z
UID:10000076-1686679200-1686686400@educaciolliure.org
SUMMARY:Portes Obertes Xantala
DESCRIPTION:🌈 Estimades famílies\, dimarts 13 de juny\, a partir de les 18h farem PORTES OBERTES per a presentar el nostre projecte d’educació lliure a Poblenou. \n🌱L’Associació Xantala\, Som una associació sense ànim de lucre\, constituïda per un grup d’acompanyants i de famílies i té com a finalitat l’acompanyament respectuós de la criança en tot el procés des de la concepció fins a l’accés de l’infant a l’Educació Primària\, seguint les bases de l’educació lliure. \n✨Oferim un espai matinal per a infants entre 2 i 6 anys\, amb una ràtio petita. Una de les nostres principals propostes és la d’acompanyar el lliure desenvolupament dels processos evolutius dels infants\, així com recollir les inquietuds i necessitats pròpies de les famílies. \n📱Per a més info i confirmar assistència podeu contactar-nos a info@xantala.es\n\nS’agraeix la difusió
URL:https://educaciolliure.org/agenda/portes-obertes-xantala-2/
LOCATION:Xantala\, Pere IV 190\, Barcelona\, Spain
CATEGORIES:Portes Obertes
ATTACH;FMTTYPE=image/jpeg:https://educaciolliure.org/wp-content/uploads/2023-Xantala-Portes-Obertes-juny.jpg
ORGANIZER;CN="Xantala":MAILTO:info@xantala.es
END:VEVENT
BEGIN:VEVENT
DTSTART;TZID=Europe/Madrid:20230503T170000
DTEND;TZID=Europe/Madrid:20230503T181500
DTSTAMP:20260421T115142
CREATED:20230428T084610Z
LAST-MODIFIED:20230428T084610Z
UID:10000062-1683133200-1683137700@educaciolliure.org
SUMMARY:Psicomotricitat relacional\, amb Sofi Ferrazini - XANTALA
DESCRIPTION:Activitat de moviment espontani i joc lliure en un espai preparat perquè les criatures es relacionin amb el seu llenguatge primari: el joc. \nLes criatures es mouen i juguen amb el seu cos de manera natural\, ja que aquest és el mitjà que tenen per expressar les seves emocions\, estats d’ànim\, inquietuds\, relacionar-se amb les altres i\, en general\, de conèixer el món. \nEls dilluns i dimecres\, de 17h a 18.15h \nAmb Sofi Ferrazini\, psicomotricista i acompanyant infantil a Xantala
URL:https://educaciolliure.org/agenda/psicomotricitat-relacional-amb-sofi-ferrazini-xantala/
LOCATION:Xantala\, Pere IV 190\, Barcelona\, Spain
CATEGORIES:Adherit XELL
ATTACH;FMTTYPE=image/jpeg:https://educaciolliure.org/wp-content/uploads/escuela-educacion-libre-psicomotricidad-300x200-1.jpg
ORGANIZER;CN="Xantala":MAILTO:info@xantala.es
END:VEVENT
END:VCALENDAR