BEGIN:VCALENDAR
VERSION:2.0
PRODID:-//XELL - ECPv6.15.20//NONSGML v1.0//EN
CALSCALE:GREGORIAN
METHOD:PUBLISH
X-ORIGINAL-URL:https://educaciolliure.org
X-WR-CALDESC:Events for XELL
REFRESH-INTERVAL;VALUE=DURATION:PT1H
X-Robots-Tag:noindex
X-PUBLISHED-TTL:PT1H
BEGIN:VTIMEZONE
TZID:Europe/Madrid
BEGIN:DAYLIGHT
TZOFFSETFROM:+0100
TZOFFSETTO:+0200
TZNAME:CEST
DTSTART:20220327T010000
END:DAYLIGHT
BEGIN:STANDARD
TZOFFSETFROM:+0200
TZOFFSETTO:+0100
TZNAME:CET
DTSTART:20221030T010000
END:STANDARD
BEGIN:DAYLIGHT
TZOFFSETFROM:+0100
TZOFFSETTO:+0200
TZNAME:CEST
DTSTART:20230326T010000
END:DAYLIGHT
BEGIN:STANDARD
TZOFFSETFROM:+0200
TZOFFSETTO:+0100
TZNAME:CET
DTSTART:20231029T010000
END:STANDARD
BEGIN:DAYLIGHT
TZOFFSETFROM:+0100
TZOFFSETTO:+0200
TZNAME:CEST
DTSTART:20240331T010000
END:DAYLIGHT
BEGIN:STANDARD
TZOFFSETFROM:+0200
TZOFFSETTO:+0100
TZNAME:CET
DTSTART:20241027T010000
END:STANDARD
END:VTIMEZONE
BEGIN:VEVENT
DTSTART;TZID=Europe/Madrid:20230613T180000
DTEND;TZID=Europe/Madrid:20230613T200000
DTSTAMP:20260421T132305
CREATED:20230601T073641Z
LAST-MODIFIED:20230601T073641Z
UID:10000076-1686679200-1686686400@educaciolliure.org
SUMMARY:Portes Obertes Xantala
DESCRIPTION:🌈 Estimades famílies\, dimarts 13 de juny\, a partir de les 18h farem PORTES OBERTES per a presentar el nostre projecte d’educació lliure a Poblenou. \n🌱L’Associació Xantala\, Som una associació sense ànim de lucre\, constituïda per un grup d’acompanyants i de famílies i té com a finalitat l’acompanyament respectuós de la criança en tot el procés des de la concepció fins a l’accés de l’infant a l’Educació Primària\, seguint les bases de l’educació lliure. \n✨Oferim un espai matinal per a infants entre 2 i 6 anys\, amb una ràtio petita. Una de les nostres principals propostes és la d’acompanyar el lliure desenvolupament dels processos evolutius dels infants\, així com recollir les inquietuds i necessitats pròpies de les famílies. \n📱Per a més info i confirmar assistència podeu contactar-nos a info@xantala.es\n\nS’agraeix la difusió
URL:https://educaciolliure.org/agenda/portes-obertes-xantala-2/
LOCATION:Xantala\, Pere IV 190\, Barcelona\, Spain
CATEGORIES:Portes Obertes
ATTACH;FMTTYPE=image/jpeg:https://educaciolliure.org/wp-content/uploads/2023-Xantala-Portes-Obertes-juny.jpg
ORGANIZER;CN="Xantala":MAILTO:info@xantala.es
END:VEVENT
BEGIN:VEVENT
DTSTART;TZID=Europe/Madrid:20230503T170000
DTEND;TZID=Europe/Madrid:20230503T181500
DTSTAMP:20260421T132305
CREATED:20230428T084610Z
LAST-MODIFIED:20230428T084610Z
UID:10000062-1683133200-1683137700@educaciolliure.org
SUMMARY:Psicomotricitat relacional\, amb Sofi Ferrazini - XANTALA
DESCRIPTION:Activitat de moviment espontani i joc lliure en un espai preparat perquè les criatures es relacionin amb el seu llenguatge primari: el joc. \nLes criatures es mouen i juguen amb el seu cos de manera natural\, ja que aquest és el mitjà que tenen per expressar les seves emocions\, estats d’ànim\, inquietuds\, relacionar-se amb les altres i\, en general\, de conèixer el món. \nEls dilluns i dimecres\, de 17h a 18.15h \nAmb Sofi Ferrazini\, psicomotricista i acompanyant infantil a Xantala
URL:https://educaciolliure.org/agenda/psicomotricitat-relacional-amb-sofi-ferrazini-xantala/
LOCATION:Xantala\, Pere IV 190\, Barcelona\, Spain
CATEGORIES:Adherit XELL
ATTACH;FMTTYPE=image/jpeg:https://educaciolliure.org/wp-content/uploads/escuela-educacion-libre-psicomotricidad-300x200-1.jpg
ORGANIZER;CN="Xantala":MAILTO:info@xantala.es
END:VEVENT
END:VCALENDAR